BEGIN:VCALENDAR
VERSION:2.0
PRODID:-//Diverse Ability Incorporated - ECPv6.15.20//NONSGML v1.0//EN
CALSCALE:GREGORIAN
METHOD:PUBLISH
X-WR-CALNAME:Diverse Ability Incorporated
X-ORIGINAL-URL:https://diverseabilityincorporated.org
X-WR-CALDESC:Events for Diverse Ability Incorporated
REFRESH-INTERVAL;VALUE=DURATION:PT1H
X-Robots-Tag:noindex
X-PUBLISHED-TTL:PT1H
BEGIN:VTIMEZONE
TZID:UTC
BEGIN:STANDARD
TZOFFSETFROM:+0000
TZOFFSETTO:+0000
TZNAME:UTC
DTSTART:20250101T000000
END:STANDARD
END:VTIMEZONE
BEGIN:VEVENT
DTSTART;TZID=UTC:20260505T170000
DTEND;TZID=UTC:20260505T190000
DTSTAMP:20260423T120013
CREATED:20260304T230151Z
LAST-MODIFIED:20260304T230812Z
UID:6426-1778000400-1778007600@diverseabilityincorporated.org
SUMMARY:Virtual Skills to Pay the Bills (May)
DESCRIPTION:Complete Our Training Form to Register\nRegister by April 21st\, 2026 \nThis practical training prepares young people for success in the workplace. It introduces them to essential interpersonal and professional skills\, focusing on six key areas: Communication\, Enthusiasm and Attitude\, Teamwork\, Networking\, Problem-Solving and Critical Thinking\, and Professionalism. This training is open to students aged 14 to 22 who have a documented disability and live in Arizona. Any AZYLF graduate wanting to attend the Skills to Pay the Bills Facilitator training must complete this training first. \nThis virtual training program requires a three-week commitment\, consisting of six sessions that will take place on Zoom\, Tuesdays and Thursdays from 5 p.m. to 7 p.m \nThe session dates for May are as follows: \n\nSession 1: Tuesday\, May 5\nSession 2: Thursday\, May 7\nSession 3: Tuesday\, May 12\nSession 4: Thursday\, May 14\nSession 5: Tuesday\, May 19\nSession 6: Thursday\, May 21\n\nRegistration Deadline: April 21
URL:https://diverseabilityincorporated.org/event/may-virtual-skills-to-pay-the-bills/
LOCATION:Zoom
END:VEVENT
BEGIN:VEVENT
DTSTART;TZID=UTC:20260516T114500
DTEND;TZID=UTC:20260516T140000
DTSTAMP:20260423T120013
CREATED:20260411T065837Z
LAST-MODIFIED:20260411T065837Z
UID:6462-1778931900-1778940000@diverseabilityincorporated.org
SUMMARY:May YAC Service Project (In-Person)
DESCRIPTION:Register for May’s YAC Service Project \nJoin us for our May YAC service project as we give back to the community at St. Mary’s Food Bank in Phoenix! Come serve\, connect\, and make a difference while supporting our community!  \n\nWho: AZYLF Alumni (ages 14-29) \nDate: Saturday\, May 16\, 2026 \nTime: 11:45 AM – 2:00 PM \nLocation: St. Mary’s Food Bank Volunteer Center\, 2804 North 29th Avenue\, Phoenix\, 85009 \nAfter registering\, you’ll receive an email with the St. Mary’s Volunteer Engagement form. You must review\, sign\, and bring this form with you on the 16th. If you have any accommodation requests\, please submit them by April 24. You can also contact Isaac (pbs4youth@diverseabilityincorporated.org; 602-854-1626) to discuss your preferred arrangements. \nQuestions? Send us an email at pbs4youth@diverseabilityincorporated.org — we’re here to help!
URL:https://diverseabilityincorporated.org/event/may-yac-service-project-in-person/
LOCATION:St. Mary’s Food Bank Volunteer Center\, 2804 North 29th Avenue\, Phoenix\, AZ\, 85009\, United States
END:VEVENT
BEGIN:VEVENT
DTSTART;TZID=UTC:20260612T163000
DTEND;TZID=UTC:20260612T180000
DTSTAMP:20260423T120013
CREATED:20260410T054850Z
LAST-MODIFIED:20260411T063726Z
UID:6457-1781281800-1781287200@diverseabilityincorporated.org
SUMMARY:June YAC Virtual Workshop
DESCRIPTION:Register for June’s YAC Virtual Workshop \nOnline Safety & Privacy (Presented by IHD) \nWe’re online more than ever\, so it’s important to know how to stay safe and protect your personal information. In this session\, a guest presenter from IHD will share tips and real‑life examples to help you understand online safety and privacy—and how to make smart choices while using the internet and social media.  \n\nWho: AZYLF Alumni (ages 14-29) \nWhat: YAC Virtual Workshop\, Online Safety & Privacy (Presented by IHD) \nWhere: Zoom (remember to register to get your entry link!) \nWhen: Friday\, June 12th\, from 4:30 to 6:00 p.m. \nAfter registering\, you’ll receive your unique link to join the meeting. Don’t forget — if you have any accommodation requests\, please submit them by Friday\, May 22nd. You can also contact Isaac (pbs4youth@diverseabilityincorporated.org; 602-854-1626) to discuss your preferred arrangements. \nQuestions? Send us an email at pbs4youth@diverseabilityincorporated.org — we’re here to help!
URL:https://diverseabilityincorporated.org/event/june-yac-virtual-workshop/
LOCATION:Zoom
END:VEVENT
BEGIN:VEVENT
DTSTART;TZID=UTC:20260708T160000
DTEND;TZID=UTC:20260708T163000
DTSTAMP:20260423T120013
CREATED:20260304T231616Z
LAST-MODIFIED:20260304T231616Z
UID:6433-1783526400-1783528200@diverseabilityincorporated.org
SUMMARY:Engaging Families and Young Adults Program (EFYAP) Information Session
DESCRIPTION:Register for the EFYAP Information Session \nA brief informational session to learn about the Engaging Families and Young Adults Program (EFYAP)\, managed by Diverse Ability Incorporated and Encircle Families. This program trains Young Adult and Family Advisors with diverse lived experience\, and “places” them within Placement Agencies in their communities. Come and learn how you can get involved!
URL:https://diverseabilityincorporated.org/event/efyap-info-session-07082026/
LOCATION:Zoom
END:VEVENT
BEGIN:VEVENT
DTSTART;TZID=UTC:20260713T090000
DTEND;TZID=UTC:20260717T130000
DTSTAMP:20260423T120013
CREATED:20260304T232733Z
LAST-MODIFIED:20260304T232926Z
UID:6435-1783933200-1784293200@diverseabilityincorporated.org
SUMMARY:Arizona Youth Leadership Forum (AZYLF) 2026
DESCRIPTION:Join us at the Arizona Youth Leadership Forum (AZYLF)\, a conference where you can discover your strengths\, build your confidence\, and shape the future you want! \n\nWho: Arizona students ages 14–22 who have a documented disability\nWhen: July 13–17\, 2026\nWhere: University of Arizona\, Tucson\, AZ\nCost: Free for all eligible participants. If selected\, participants must complete a Pre-Employment Transition Services (Pre-ETS) Form.\n\n\n\n\n\n\n\n\n\n\n\nWho’s Eligible to Attend AZYLF? \n\n\n\n\nApplicants should: \n\n\nHave a documented disability\nBe 14–22 years of age\nBe enrolled in high school or a higher education or post-secondary training program\nLive in Arizona\n\n\nLimited space may be available for applicants who do not meet all eligibility requirements. \nTo learn more\, visit our AZYLF webpage.\nRegister for AZYLF 2026
URL:https://diverseabilityincorporated.org/event/arizona-youth-leadership-forum-azylf-2026/
LOCATION:University of Arizona\, Tucson\, AZ\, United States
END:VEVENT
END:VCALENDAR